BEGIN:VCALENDAR
VERSION:2.0
PRODID:icalendar-ruby
CALSCALE:GREGORIAN
METHOD:PUBLISH
BEGIN:VEVENT
DTSTAMP:20260422T160619Z
UID:13-2008038@mincofbc.com
DTSTART;VALUE=DATE:20260710
DTEND;VALUE=DATE:20260713
CLASS:PUBLIC
CREATED:20260407T144353
DESCRIPTION:Camp is for 3rd Grade - 5th Grade\n 
LAST-MODIFIED:20260407T144353
LOCATION:Anadarko\, OK 
SUMMARY:Children's Camp Unite
URL;VALUE=URI:https://www.mincofbc.com/events/childrens-camp-unite/2026-07-
 10
ATTACH;FILENAME=Kids-camp.png;FMTTYPE=image/png:https://dq5pwpg1q8ru0.cloud
 front.net/2026/04/07/19/43/53/bb4c1753-d6b0-4aee-82be-2144c241eee1/Kids-ca
 mp.png
END:VEVENT
END:VCALENDAR
