BEGIN:VCALENDAR
VERSION:2.0
PRODID:icalendar-ruby
CALSCALE:GREGORIAN
METHOD:PUBLISH
BEGIN:VEVENT
DTSTAMP:20260422T143642Z
UID:11-2008034@mincofbc.com
DTSTART:20260601T170000Z
DTEND:20260606T180000Z
CLASS:PUBLIC
CREATED:20260330T111806
DESCRIPTION:Students 6th-12th Grade\n$75.00 per student\nScholarships Avail
 able
LAST-MODIFIED:20260330T111806
LOCATION:Falls Creek Camp
SUMMARY:Falls Creek - Students
URL;VALUE=URI:https://www.mincofbc.com/events/falls-creek-students/2026-06-
 01
ATTACH;FILENAME=Falls-Creek-11-x-8.5-in.png;FMTTYPE=image/png:https://dq5pw
 pg1q8ru0.cloudfront.net/2026/03/30/16/18/05/dc8a5c4e-faaa-44cd-beeb-8ae151
 b634df/Falls-Creek-11-x-8.5-in.png
END:VEVENT
END:VCALENDAR
