BEGIN:VCALENDAR
VERSION:2.0
PRODID:icalendar-ruby
CALSCALE:GREGORIAN
METHOD:PUBLISH
BEGIN:VEVENT
DTSTAMP:20260424T134953Z
UID:14-2008042@mincofbc.com
DTSTART:20260623T230000Z
DTEND:20260624T000000Z
CLASS:PUBLIC
CREATED:20260422T104452
DESCRIPTION:Order your book on Amazon or at the Mardels Store
LAST-MODIFIED:20260422T104452
LOCATION:Fellowship Hall
SUMMARY:Ladies Summer Bible Study
URL;VALUE=URI:https://www.mincofbc.com/events/ladies-summer-bible-study/202
 6-06-23
ATTACH;FILENAME=WOMENS-BIBLE-STUDY-11-x-8.5-in.png;FMTTYPE=image/png:https:
 //dq5pwpg1q8ru0.cloudfront.net/2026/04/22/15/44/51/468a1c39-faa0-4194-a5ff
 -789c3c7600cc/WOMENS-BIBLE-STUDY-11-x-8.5-in.png
END:VEVENT
END:VCALENDAR
