BEGIN:VCALENDAR
VERSION:2.0
PRODID:icalendar-ruby
CALSCALE:GREGORIAN
METHOD:PUBLISH
BEGIN:VEVENT
DTSTAMP:20260424T090525Z
UID:15-2008068@mincofbc.com
DTSTART:20260506T230000Z
DTEND:20260506T230000Z
CLASS:PUBLIC
CREATED:20260422T104649
DESCRIPTION:Come enjoy an evening of fellowship &amp\; dinner.
LAST-MODIFIED:20260422T104649
LOCATION:Cale Dolch's home
SUMMARY:Skeet Shoot
URL;VALUE=URI:https://www.mincofbc.com/events/skeet-shoot/2026-05-06
ATTACH;FILENAME=Skeet-1.png;FMTTYPE=image/png:https://dq5pwpg1q8ru0.cloudfr
 ont.net/2026/04/22/15/46/49/cffff4ce-1b4e-40de-8eb2-a6f916d23adb/Skeet-1.p
 ng
END:VEVENT
END:VCALENDAR
