BEGIN:VCALENDAR
VERSION:2.0
PRODID:icalendar-ruby
CALSCALE:GREGORIAN
METHOD:PUBLISH
BEGIN:VEVENT
DTSTAMP:20260422T143642Z
UID:12-2008036@mincofbc.com
DTSTART:20260622T150000Z
DTEND:20260626T170000Z
CLASS:PUBLIC
CREATED:20260330T112752
DESCRIPTION:Vacation Bible School\nPreK - 5th Grade
LAST-MODIFIED:20260330T112752
LOCATION:FBC Worship Center
SUMMARY:Vacation Bible School - VBS
URL;VALUE=URI:https://www.mincofbc.com/events/vacation-bible-school-vbs/202
 6-06-22
ATTACH;FILENAME=VBS-26.jpg;FMTTYPE=image/jpeg:https://dq5pwpg1q8ru0.cloudfr
 ont.net/2026/03/30/16/27/52/f71adb48-a921-44c3-a91a-3b2bc06bc5d7/VBS-26.jp
 g
END:VEVENT
END:VCALENDAR
