BEGIN:VCALENDAR
VERSION:2.0
PRODID:icalendar-ruby
CALSCALE:GREGORIAN
METHOD:PUBLISH
BEGIN:VEVENT
DTSTAMP:20260422T142547Z
UID:10-2008033@mincofbc.com
DTSTART:20260501T230000Z
DTEND:20260502T010000Z
CLASS:PUBLIC
CREATED:20260330T111053
DESCRIPTION:
LAST-MODIFIED:20260330T111053
LOCATION:FBC Fellowship Hall
SUMMARY:Women's Event - Speak Light
URL;VALUE=URI:https://www.mincofbc.com/events/womens-event-speak-light/2026
 -05-01
ATTACH;FILENAME=Womens-Event-Flyer.png;FMTTYPE=image/png:https://dq5pwpg1q8
 ru0.cloudfront.net/2026/03/30/16/10/53/06b6cf00-99d2-4e86-bc04-82bbb64dca3
 1/Womens-Event-Flyer.png
END:VEVENT
END:VCALENDAR
